BEGIN:VCALENDAR
VERSION:2.0
PRODID:-//jEvents 2.0 for Joomla//EN
CALSCALE:GREGORIAN
METHOD:PUBLISH
BEGIN:VEVENT
UID:a13cd88d2c399765149c8b788aef9b26
CATEGORIES:Kein Training
CREATED:19700101T010000
SUMMARY:Semseterferien
URL;VALUE=URI:https://www.xn--fecht-union-mdling-p3b.at/component/jevents/icalrepeat.deta
 il/2022/02/04/673/-/semseterferien?Itemid=167&amp;tmpl=component
DESCRIPTION: Dieser Event wurde importiert von: https://www.xn--fecht-union-mdling-p3b.
 at/component/jevents/icalrepeat.detail/2022/02/04/673/-/semseterferien?Item
 id=167&amp;tmpl=component
X-ALT-DESC;FMTTYPE=text/html: <a href="https://www.xn--fecht-union-mdling-p3b.at/component/jevents/icalr
 epeat.detail/2022/02/04/673/-/semseterferien?Itemid=167&amp;tmpl=component"
 >Dieser Event wurde importiert von: https://www.xn--fecht-union-mdling-p3b.
 at/component/jevents/icalrepeat.detail/2022/02/04/673/-/semseterferien?Item
 id=167&amp;tmpl=component</a>DTSTAMP:20260423T090346
DTSTART:20220204T150000
DTEND:20220204T200000
SEQUENCE:0
RRULE:FREQ=WEEKLY;UNTIL=20220212T000000Z;INTERVAL=1;BYDAY=TU,FR
TRANSP:OPAQUE
END:VEVENT
END:VCALENDAR