BEGIN:VCALENDAR
VERSION:2.0
PRODID:-//jEvents 2.0 for Joomla//EN
CALSCALE:GREGORIAN
METHOD:PUBLISH
BEGIN:VEVENT
UID:c8f5e2d49d74479222b7a24338be521d
CATEGORIES:Kein Training
CREATED:20230424T061459
SUMMARY:Kein Training (Schulveranstaltung)
URL;VALUE=URI:https://www.xn--fecht-union-mdling-p3b.at/component/jevents/icalrepeat.deta
 il/2023/05/12/803/-/kein-training-schulveranstaltung?Itemid=167&amp;tmpl=co
 mponent
DESCRIPTION: Dieser Event wurde importiert von: https://www.xn--fecht-union-mdling-p3b.
 at/component/jevents/icalrepeat.detail/2023/05/12/803/-/kein-training-schul
 veranstaltung?Itemid=167&amp;tmpl=component
X-ALT-DESC;FMTTYPE=text/html: <a href="https://www.xn--fecht-union-mdling-p3b.at/component/jevents/icalr
 epeat.detail/2023/05/12/803/-/kein-training-schulveranstaltung?Itemid=167&a
 mp;tmpl=component">Dieser Event wurde importiert von: https://www.xn--fecht
 -union-mdling-p3b.at/component/jevents/icalrepeat.detail/2023/05/12/803/-/k
 ein-training-schulveranstaltung?Itemid=167&amp;tmpl=component</a>DTSTAMP:20260422T224250
DTSTART:20230512T140000
DTEND:20230512T190000
SEQUENCE:0
TRANSP:OPAQUE
END:VEVENT
END:VCALENDAR