BEGIN:VCALENDAR
VERSION:2.0
PRODID:-//jEvents 2.0 for Joomla//EN
CALSCALE:GREGORIAN
METHOD:PUBLISH
BEGIN:VEVENT
UID:4d9c7006954964b1fae6b0f2ef6af8fe
CATEGORIES:Kein Training
CREATED:19700101T010000
SUMMARY:Weihnachtsferien
URL;VALUE=URI:https://www.xn--fecht-union-mdling-p3b.at/component/jevents/icalrepeat.deta
 il/2023/12/22/838/-/weihnachtsferien?Itemid=167&amp;tmpl=component
DESCRIPTION: Dieser Event wurde importiert von: https://www.xn--fecht-union-mdling-p3b.
 at/component/jevents/icalrepeat.detail/2023/12/22/838/-/weihnachtsferien?It
 emid=167&amp;tmpl=component
X-ALT-DESC;FMTTYPE=text/html: <a href="https://www.xn--fecht-union-mdling-p3b.at/component/jevents/icalr
 epeat.detail/2023/12/22/838/-/weihnachtsferien?Itemid=167&amp;tmpl=componen
 t">Dieser Event wurde importiert von: https://www.xn--fecht-union-mdling-p3
 b.at/component/jevents/icalrepeat.detail/2023/12/22/838/-/weihnachtsferien?
 Itemid=167&amp;tmpl=component</a>DTSTAMP:20260424T110219
DTSTART:20231222T150000
DTEND:20231222T200000
SEQUENCE:0
RRULE:FREQ=WEEKLY;UNTIL=20240106T000000Z;INTERVAL=1;BYDAY=TU,FR
TRANSP:OPAQUE
END:VEVENT
END:VCALENDAR