BEGIN:VCALENDAR
VERSION:2.0
PRODID:-//jEvents 2.0 for Joomla//EN
CALSCALE:GREGORIAN
METHOD:PUBLISH
BEGIN:VEVENT
UID:a13cd88d2c399765149c8b788aef9b26
CATEGORIES:Kein Training
CREATED:20210925T182933
SUMMARY:Semseterferien
URL;VALUE=URI:https://www.xn--fecht-union-mdling-p3b.at/component/jevents/icalrepeat.deta
 il/2022/02/08/674/-/semseterferien?Itemid=167&amp;tmpl=component
DESCRIPTION: Dieser Event wurde importiert von: https://www.xn--fecht-union-mdling-p3b.
 at/component/jevents/icalrepeat.detail/2022/02/08/674/-/semseterferien?Item
 id=167&amp;tmpl=component
X-ALT-DESC;FMTTYPE=text/html: <a href="https://www.xn--fecht-union-mdling-p3b.at/component/jevents/icalr
 epeat.detail/2022/02/08/674/-/semseterferien?Itemid=167&amp;tmpl=component"
 >Dieser Event wurde importiert von: https://www.xn--fecht-union-mdling-p3b.
 at/component/jevents/icalrepeat.detail/2022/02/08/674/-/semseterferien?Item
 id=167&amp;tmpl=component</a>DTSTAMP:20260423T090346
DTSTART:20220208T150000
DTEND:20220208T200000
SEQUENCE:0
TRANSP:OPAQUE
END:VEVENT
END:VCALENDAR